BEGIN:VCALENDAR
VERSION:2.0
PRODID:-//WP EVENT Manager Ical//NONSGML Events //EN
CALSCALE:GREGORIAN

BEGIN:VEVENT

DTSTART:19700101T000000Z
DTEND:20220114T173000Z
LOCATION:Hotel Royale Chulan Penang
SUMMARY:Retreat Gabungan Dakwah Malaysia Pulau Pinang (GDMPP) 2022
DESCRIPTION:<p>Retreat ini merupakan sebuah mesyuarat Tahunan yang melibatkan wakil 13 NGO Islam yang berdaftar sebagai naungan GDMPP. Mesyuarat ini bertujuan untuk membuat refleksi pencapaian, program, sasaran seperti yang telah ditetapkan [&#8230;]</p>
<p>The post <a href="https://hidayahcentre.org.my/event/street-dakwah-retreat-gabungan-dakwah-malaysia-pulau-pinang-gdmpp-2022-3/">Retreat Gabungan Dakwah Malaysia Pulau Pinang (GDMPP) 2022</a> appeared first on <a href="https://hidayahcentre.org.my">Hidayah Centre Foundation</a>.</p>

END:VEVENT
END:VCALENDAR
