BEGIN:VCALENDAR
VERSION:2.0
PRODID:-//WP EVENT Manager Ical//NONSGML Events //EN
CALSCALE:GREGORIAN

BEGIN:VEVENT

DTSTART:20220529T020000Z
DTEND:20220529T080000Z
LOCATION:Masjid Al Mukhlisin, Alam Damai, Cheras, Kuala Lumpur
SUMMARY:Masjid Tour
DESCRIPTION:<p>Hidayah Centre Foundation (HCF) telah memenuhi jemputan Majlis Rumah Terbuka Aidilfitri anjuran Masjid Al Mukhlisin Alam Damai, Cheras KL. Masyarakat majmuk pelbagai kaum dan agama turut hadir memeriahkan. Pihak HCF [&#8230;]</p>
<p>The post <a href="https://hidayahcentre.org.my/event/mod-masjid-tour/">Masjid Tour</a> appeared first on <a href="https://hidayahcentre.org.my">Hidayah Centre Foundation</a>.</p>

END:VEVENT
END:VCALENDAR
