BEGIN:VCALENDAR
VERSION:2.0
PRODID:-//WP EVENT Manager Ical//NONSGML Events //EN
CALSCALE:GREGORIAN

BEGIN:VEVENT

DTSTART:20210909T160000Z
DTEND:20210909T160000Z
LOCATION:Pusat Ruqyah Sya’iyyah Group Bintulu, Sarawak
SUMMARY:Kunjungan ke Pusat Ruqyah Syar’iyyah Group – Bintulu
DESCRIPTION:<p>Hidayah Centre Foundation Cawangan Bintulu telah melakukan ziarah ke pusat Ruqyah Syar’iyyah Group Bintulu. Tujuan HCF Bintulu melakukan ziarah ini adalah untuk memperkenalkan Hidayah Centre Foundation dan membincangkan program-program yang [&#8230;]</p>
<p>The post <a href="https://hidayahcentre.org.my/event/kunjungan-hormat-kunjungan-ke-pusat-ruqyah-syariyyah-group-bintulu/">Kunjungan ke Pusat Ruqyah Syar’iyyah Group – Bintulu</a> appeared first on <a href="https://hidayahcentre.org.my">Hidayah Centre Foundation</a>.</p>

END:VEVENT
END:VCALENDAR
