BEGIN:VCALENDAR
VERSION:2.0
PRODID:-//WP EVENT Manager Ical//NONSGML Events //EN
CALSCALE:GREGORIAN

BEGIN:VEVENT

DTSTART:20210930T160000Z
DTEND:20211001T153000Z
LOCATION:
SUMMARY:Mualaf Dibimbing Mengaji al-Qur’an Menerusi Kelas Iqra’ HCF
DESCRIPTION:<p>Melalui kesedaran dan kefahaman kepentingan memperkasakan mualaf selepas memeluk agama Islam, sukarelawan-sukarelawan Rakan Hidayah telah mengorbankan masa dan tenaga mereka dengan membantu membimbing mualaf-mualaf tersebut. Ia menerusi program Kelas Iqra&#8217; [&#8230;]</p>
<p>The post <a href="https://hidayahcentre.org.my/event/kelas-mualaf-dibimbing-mengaji-al-quran-menerusi-kelas-iqra-hcf/">Mualaf Dibimbing Mengaji al-Qur&#8217;an Menerusi Kelas Iqra&#8217; HCF</a> appeared first on <a href="https://hidayahcentre.org.my">Hidayah Centre Foundation</a>.</p>

END:VEVENT
END:VCALENDAR
