BEGIN:VCALENDAR
VERSION:2.0
PRODID:-//WP EVENT Manager Ical//NONSGML Events //EN
CALSCALE:GREGORIAN

BEGIN:VEVENT

DTSTART:20220416T010000Z
DTEND:20220416T033000Z
LOCATION:
SUMMARY:Ramadhan Quran Challenge
DESCRIPTION:<p>Ramadhan Quran Challenge Sempena bulan diturunnya Al-Quran ini, Hidayah Centre Foundation Wilayah Utara menjemput semua saudara baru pertandingan ini. Butiran Lanjut Seperti Berikut : *16 April 2022 (Sabtu) *9 pagi [&#8230;]</p>
<p>The post <a href="https://hidayahcentre.org.my/event/ihya-ramadan-ramadhan-quran-challenge/">Ramadhan Quran Challenge</a> appeared first on <a href="https://hidayahcentre.org.my">Hidayah Centre Foundation</a>.</p>

END:VEVENT
END:VCALENDAR
