BEGIN:VCALENDAR
VERSION:2.0
PRODID:-//WP EVENT Manager Ical//NONSGML Events //EN
CALSCALE:GREGORIAN

BEGIN:VEVENT

DTSTART:20220407T093000Z
DTEND:20220407T103000Z
LOCATION:
SUMMARY:Hidayah Centre Foundation @ Radio Bernama
DESCRIPTION:<p>Mari kita ikuti perkongsian dari Sis Ain Sumaiyah @ Sumitra Valaitham, Eksekutif Hidayah Centre Foundation Selangor di slot Hijrah Ramadan, radio Bernama. . Jom❗ dengarkan pada hari Khamis , 7 [&#8230;]</p>
<p>The post <a href="https://hidayahcentre.org.my/event/ihya-ramadan-hidayah-centre-foundation-radio-bernama/">Hidayah Centre Foundation @ Radio Bernama</a> appeared first on <a href="https://hidayahcentre.org.my">Hidayah Centre Foundation</a>.</p>

END:VEVENT
END:VCALENDAR
