BEGIN:VCALENDAR
VERSION:2.0
PRODID:-//WP EVENT Manager Ical//NONSGML Events //EN
CALSCALE:GREGORIAN

BEGIN:VEVENT

DTSTART:20220414T093000Z
DTEND:20220414T103000Z
LOCATION:
SUMMARY:Hidayah Centre Foundation @ Radio Bernama
DESCRIPTION:<p>Hidayah Centre Foundation @ Radio Bernama ?️ . Mari kita ikuti perkongsian dari Muhammad Harsun Kong Soon Soon Abdullah, Eksekutif Hidayah Centre Foundation Sabah di slot Hijrah Ramadan, radio Bernama. [&#8230;]</p>
<p>The post <a href="https://hidayahcentre.org.my/event/ihya-ramadan-hidayah-centre-foundation-radio-bernama-2/">Hidayah Centre Foundation @ Radio Bernama</a> appeared first on <a href="https://hidayahcentre.org.my">Hidayah Centre Foundation</a>.</p>

END:VEVENT
END:VCALENDAR
