BEGIN:VCALENDAR
VERSION:2.0
PRODID:-//WP EVENT Manager Ical//NONSGML Events //EN
CALSCALE:GREGORIAN

BEGIN:VEVENT

DTSTART:20220113T160000Z
DTEND:20220113T160000Z
LOCATION:Puchong, Selangor
SUMMARY:Tazkirah Jumaat “Sebaik-baik Ummat”
DESCRIPTION:<p>Perkongsian tentang kesedaran dakwah dan pengalaman menyantuni mualaf dengan tajuk &#8220;Sebaik-baik Ummat&#8221; oleh Ustaz Ariff bersama jemaah Surau Ar Rahman, Bandar Puchong Jaya, Selangor.</p>
<p>The post <a href="https://hidayahcentre.org.my/event/hidayah-talk-tazkirah-jumaat-sebaik-baik-ummat/">Tazkirah Jumaat &#8220;Sebaik-baik Ummat&#8221;</a> appeared first on <a href="https://hidayahcentre.org.my">Hidayah Centre Foundation</a>.</p>

END:VEVENT
END:VCALENDAR
