BEGIN:VCALENDAR
VERSION:2.0
PRODID:-//WP EVENT Manager Ical//NONSGML Events //EN
CALSCALE:GREGORIAN

BEGIN:VEVENT

DTSTART:20210606T020000Z
DTEND:20210606T040000Z
LOCATION:
SUMMARY:RH Talk : Aku Khadam Ummah
DESCRIPTION:<p>Objektif :  Platform berkongsi pengalaman dan usaha kesukarelawanan kepada masyarakat. Memberi semangat dan dorongan berterusan kepada Rakan Hidayah HCF. Disampaikan sendiri oleh pengarangnya Saudara Aiman Khairul Azzam, Mantan CEO Yayasan Sukarelawan [&#8230;]</p>
<p>The post <a href="https://hidayahcentre.org.my/event/hidayah-talk-rh-talk-aku-khadam-ummah/">RH Talk : Aku Khadam Ummah</a> appeared first on <a href="https://hidayahcentre.org.my">Hidayah Centre Foundation</a>.</p>

END:VEVENT
END:VCALENDAR
