BEGIN:VCALENDAR
VERSION:2.0
PRODID:-//WP EVENT Manager Ical//NONSGML Events //EN
CALSCALE:GREGORIAN

BEGIN:VEVENT

DTSTART:20210709T160000Z
DTEND:20210709T160000Z
LOCATION:
SUMMARY:Program Bicara Palestin
DESCRIPTION:<p>Objektif : Memberi cakna isu palestin kepada anak-anak mualaf Laporan Ringkas : Mengumpulkan anak-anak mualaf yang masih bersekolah dari negeri perlis, penang, kedah dan perak. Melaksanakan aktiviti secara atas talian [&#8230;]</p>
<p>The post <a href="https://hidayahcentre.org.my/event/hidayah-talk-program-bicara-palestin/">Program Bicara Palestin</a> appeared first on <a href="https://hidayahcentre.org.my">Hidayah Centre Foundation</a>.</p>

END:VEVENT
END:VCALENDAR
