BEGIN:VCALENDAR
VERSION:2.0
PRODID:-//WP EVENT Manager Ical//NONSGML Events //EN
CALSCALE:GREGORIAN

BEGIN:VEVENT

DTSTART:20230308T160000Z
DTEND:20230308T160000Z
LOCATION:
SUMMARY:Online Tadabbur Siri 03
DESCRIPTION:<p>ONLINE TADABBUR (Siri 3) Tajuk: Menghayati Lafaz Ar-Rahman Ar-Rahim HCF Wilayah Tengah membawakan kepada anda Siri Online Tadabbur dengan mengupas tajuk-tajuk sekitar bacaan dan zikir harian. Khamis, 9 Mac 2023, [&#8230;]</p>
<p>The post <a href="https://hidayahcentre.org.my/event/hidayah-talk-online-tadabbur-siri-03/">Online Tadabbur Siri 03</a> appeared first on <a href="https://hidayahcentre.org.my">Hidayah Centre Foundation</a>.</p>

END:VEVENT
END:VCALENDAR
