BEGIN:VCALENDAR
VERSION:2.0
PRODID:-//WP EVENT Manager Ical//NONSGML Events //EN
CALSCALE:GREGORIAN

BEGIN:VEVENT

DTSTART:20230512T120000Z
DTEND:20230512T140000Z
LOCATION:Surau Al-Abrar, Denai Alam
SUMMARY:Kuliah Magrib: Masuk Islam Bukan Masuk Melayu
DESCRIPTION:<p>?????? ???????: ????? ????? ????? ????? ??????❗ . Hidayah Centre Foundation membawakan kuliah maghrib bersama Tuan Wan Muhammad Wan Ibrahim, Pengarah Pembangunan Daie &#38; Sukarelawan . ?Jumaat, 12 Mei 2023 [&#8230;]</p>
<p>The post <a href="https://hidayahcentre.org.my/event/hidayah-talk-kuliah-magrib-masuk-islam-bukan-masuk-melayu/">Kuliah Magrib: Masuk Islam Bukan Masuk Melayu</a> appeared first on <a href="https://hidayahcentre.org.my">Hidayah Centre Foundation</a>.</p>

END:VEVENT
END:VCALENDAR
