BEGIN:VCALENDAR
VERSION:2.0
PRODID:-//WP EVENT Manager Ical//NONSGML Events //EN
CALSCALE:GREGORIAN

BEGIN:VEVENT

DTSTART:20220419T020000Z
DTEND:20220419T030000Z
LOCATION:
SUMMARY:Hidayah Talk: Ramadan Bulan Al-Quran
DESCRIPTION:<p>Kuala Lumpur/Selangor- 19 April 2022 ???????????? ???? ???????????? ???? ????ℎ ???????? ?????? ℎ??????? ?? ????? ???????． ????????? ?????ℎ ????????? ????? ????? ????? ?? ????? ???? ???????????? ??????? ???????? ????????? ?????? [&#8230;]</p>
<p>The post <a href="https://hidayahcentre.org.my/event/hidayah-talk-hidayah-talk-ramadan-bulan-al-quran/">Hidayah Talk: Ramadan Bulan Al-Quran</a> appeared first on <a href="https://hidayahcentre.org.my">Hidayah Centre Foundation</a>.</p>

END:VEVENT
END:VCALENDAR
