BEGIN:VCALENDAR
VERSION:2.0
PRODID:-//WP EVENT Manager Ical//NONSGML Events //EN
CALSCALE:GREGORIAN

BEGIN:VEVENT

DTSTART:20221009T020000Z
DTEND:20221009T030000Z
LOCATION:
SUMMARY:(Hidayah Talk) Karakter Muhammad SAW Menurut Al-Quran
DESCRIPTION:<p>? HIDAYAH TALK ? Karakter Muhammad SAW Menurut Al-Quran Terbuka kepada SEMUA! Bersiaran Langsung di Facebook Hidayah Centre Foundation Kuala Lumpur bersama Ustaz Syaari Abdul Rahman, Jurulatih Utama Tadabbur Centre [&#8230;]</p>
<p>The post <a href="https://hidayahcentre.org.my/event/hidayah-talk-hidayah-talk-karakter-muhammad-saw-menurut-al-quran/">(Hidayah Talk) Karakter Muhammad SAW Menurut Al-Quran</a> appeared first on <a href="https://hidayahcentre.org.my">Hidayah Centre Foundation</a>.</p>

END:VEVENT
END:VCALENDAR
