BEGIN:VCALENDAR
VERSION:2.0
PRODID:-//WP EVENT Manager Ical//NONSGML Events //EN
CALSCALE:GREGORIAN

BEGIN:VEVENT

DTSTART:20210212T030000Z
DTEND:20210212T153000Z
LOCATION:
SUMMARY:HIDAYAH TALK : Antara Agama & Budaya
DESCRIPTION:<p>Assalamu’alaikum wbt Saksikan siaran langsung sempena Tahun Baru Cina HIDAYAH TALK : Antara Agama &#38; Budaya Tarikh: 12 Februari 2021 (Jumaat) Masa: 11.00 Pagi Ikuti siaran langsung di Facebook Page [&#8230;]</p>
<p>The post <a href="https://hidayahcentre.org.my/event/hidayah-talk-hidayah-talk-antara-agama-budaya/">HIDAYAH TALK : Antara Agama &amp; Budaya</a> appeared first on <a href="https://hidayahcentre.org.my">Hidayah Centre Foundation</a>.</p>

END:VEVENT
END:VCALENDAR
