BEGIN:VCALENDAR
VERSION:2.0
PRODID:-//WP EVENT Manager Ical//NONSGML Events //EN
CALSCALE:GREGORIAN

BEGIN:VEVENT

DTSTART:20210605T020000Z
DTEND:20210605T040000Z
LOCATION:
SUMMARY:Hi-Talk : Gospel
DESCRIPTION:<p>Hi-Talk bertajuk Introduction : Testing the Historicity of the Gospels dan disampaikan oleh Saudara Hasmeet Chaal.</p>
<p>The post <a href="https://hidayahcentre.org.my/event/hidayah-talk-hi-talk-gospel/">Hi-Talk : Gospel</a> appeared first on <a href="https://hidayahcentre.org.my">Hidayah Centre Foundation</a>.</p>

END:VEVENT
END:VCALENDAR
