BEGIN:VCALENDAR
VERSION:2.0
PRODID:-//WP EVENT Manager Ical//NONSGML Events //EN
CALSCALE:GREGORIAN

BEGIN:VEVENT

DTSTART:20220416T020000Z
DTEND:20220416T030000Z
LOCATION:
SUMMARY:Hi-T: Hidayah Talk
DESCRIPTION:<p>? ???????? ?? ??????? (??????? ????? ???? ?? ????? ???????) ?? Kita sudah memasuki pertengahan bulan Ramadan, namun apakah suasana yang diamalkan dan diterapkan di rumah rumah kita? Adakah suasana [&#8230;]</p>
<p>The post <a href="https://hidayahcentre.org.my/event/hidayah-talk-hi-t-hidayah-talk/">Hi-T: Hidayah Talk</a> appeared first on <a href="https://hidayahcentre.org.my">Hidayah Centre Foundation</a>.</p>

END:VEVENT
END:VCALENDAR
