BEGIN:VCALENDAR
VERSION:2.0
PRODID:-//WP EVENT Manager Ical//NONSGML Events //EN
CALSCALE:GREGORIAN

BEGIN:VEVENT

DTSTART:20211023T020000Z
DTEND:20211023T153000Z
LOCATION:
SUMMARY:Bedah Buku : Ummahat Al-Mu’minin
DESCRIPTION:<p>BEDAH BUKU ? Ummahat Al-Mu&#8217;minin. . Apakah sumbangan dan peranan penting yang dimainkan oleh para isteri Rasulullah S.A.W dalam perjuangan baginda S.A.W memartabatkan agama Islam❓ Mari bersama kita menelusuri sirah [&#8230;]</p>
<p>The post <a href="https://hidayahcentre.org.my/event/hidayah-talk-bedah-buku-ummahat-al-muminin/">Bedah Buku : Ummahat Al-Mu&#8217;minin</a> appeared first on <a href="https://hidayahcentre.org.my">Hidayah Centre Foundation</a>.</p>

END:VEVENT
END:VCALENDAR
