BEGIN:VCALENDAR
VERSION:2.0
PRODID:-//WP EVENT Manager Ical//NONSGML Events //EN
CALSCALE:GREGORIAN

BEGIN:VEVENT

DTSTART:20210821T020000Z
DTEND:20210821T043000Z
LOCATION:
SUMMARY:From Good, Better to Great
DESCRIPTION:<p>FORUM Maal-Hijrah GDMPP – (From Good, Better to Great) Anjuran forum bersama GMPP secara atas talian sempena sambutan maal hijrah. berkisahkan tentang pengalaman penghijrahan oleh ahli panel jemputan dari pelbagai [&#8230;]</p>
<p>The post <a href="https://hidayahcentre.org.my/event/from-good-better-to-great/">From Good, Better to Great</a> appeared first on <a href="https://hidayahcentre.org.my">Hidayah Centre Foundation</a>.</p>

END:VEVENT
END:VCALENDAR
