BEGIN:VCALENDAR
VERSION:2.0
PRODID:-//WP EVENT Manager Ical//NONSGML Events //EN
CALSCALE:GREGORIAN

BEGIN:VEVENT

DTSTART:20220211T120000Z
DTEND:20220211T130000Z
LOCATION:Surau Al-Abrar, Denai Alam
SUMMARY:Interaksi Rasulullah SAW dengan Non-Muslim
DESCRIPTION:<p>Hidayah Centre Foundation membawakan kuliah maghrib bersama Tuan Wan Muhammad Wan Ibrahim, Pengarah Pembangunan Daie &#38; Sukarelawan &#62;&#62;Jumaat, 11 Februari 2022 &#62;&#62;Usai solat maghrib &#62;&#62;Surau Al-Abrar, Denai Alam. Info lanjut [&#8230;]</p>
<p>The post <a href="https://hidayahcentre.org.my/event/forum-interaksi-rasulullah-saw-dengan-non-muslim/">Interaksi Rasulullah SAW dengan Non-Muslim</a> appeared first on <a href="https://hidayahcentre.org.my">Hidayah Centre Foundation</a>.</p>

END:VEVENT
END:VCALENDAR
