BEGIN:VCALENDAR
VERSION:2.0
PRODID:-//WP EVENT Manager Ical//NONSGML Events //EN
CALSCALE:GREGORIAN

BEGIN:VEVENT

DTSTART:20211123T130000Z
DTEND:20211123T140000Z
LOCATION:
SUMMARY:APO NAK DI KOBAAN?
DESCRIPTION:<p>??? ??? ?? ???? ??❓ . ???? 4: Perpaduan Dalam Kepelbagaian . Bagaimanakah manifestasi perpaduan dapat dipupuk dalam kepelbagaian masyarakat majmuk di Malaysia? . Jom❗ dengarkan perkongsian pada hari Selasa [&#8230;]</p>
<p>The post <a href="https://hidayahcentre.org.my/event/forum-apo-nak-di-kobaan-3/">APO NAK DI KOBAAN?</a> appeared first on <a href="https://hidayahcentre.org.my">Hidayah Centre Foundation</a>.</p>

END:VEVENT
END:VCALENDAR
