BEGIN:VCALENDAR
VERSION:2.0
PRODID:-//WP EVENT Manager Ical//NONSGML Events //EN
CALSCALE:GREGORIAN

BEGIN:VEVENT

DTSTART:20211025T130000Z
DTEND:20211025T143000Z
LOCATION:
SUMMARY:APO NAK DI KOBAAN?
DESCRIPTION:<p>???? ????? ?????, ???? ???? ??? ????? Adakah usaha menyampaikan keindahan Islam hanya boleh dilakukan seseorang bergelar ustaz? Jom❗ dengarkan perkongsian ini dari tetamu khas yang kami bawakan pada hari [&#8230;]</p>
<p>The post <a href="https://hidayahcentre.org.my/event/forum-apo-nak-di-kobaan-2/">APO NAK DI KOBAAN?</a> appeared first on <a href="https://hidayahcentre.org.my">Hidayah Centre Foundation</a>.</p>

END:VEVENT
END:VCALENDAR
