BEGIN:VCALENDAR
VERSION:2.0
PRODID:-//WP EVENT Manager Ical//NONSGML Events //EN
CALSCALE:GREGORIAN

BEGIN:VEVENT

DTSTART:20220117T130000Z
DTEND:20220117T143000Z
LOCATION:
SUMMARY:1 BULAN, 1 HADIS (HADIS 40 – IMAM NAWAWI)
DESCRIPTION:<p>Assalamualaikum wbt. Jom belajar dan mengambil nasihat daripada hadis Nabi Muhammad SAW bersama Ustaz Faiz Mohd Fadhil anjuran Rakan Hidayah Taiping. HADIS 3 : RUKUN ISLAM Tarikh : 17 Januari [&#8230;]</p>
<p>The post <a href="https://hidayahcentre.org.my/event/forum-1-bulan-1-hadis-hadis-40-imam-nawawi/">1 BULAN, 1 HADIS (HADIS 40 &#8211; IMAM NAWAWI)</a> appeared first on <a href="https://hidayahcentre.org.my">Hidayah Centre Foundation</a>.</p>

END:VEVENT
END:VCALENDAR
