BEGIN:VCALENDAR
VERSION:2.0
PRODID:-//WP EVENT Manager Ical//NONSGML Events //EN
CALSCALE:GREGORIAN

BEGIN:VEVENT

DTSTART:20220827T000000Z
DTEND:20220827T050000Z
LOCATION:Masjid Amaniah Jalan Kepong, Kuala Lumpur
SUMMARY:JEMPUTAN KHAS KE MASJID OPEN DAY
DESCRIPTION:<p>? JEMPUTAN KHAS KE MASJID OPEN DAY ? ?Khusus kepada seluruh masyarakat Bukan Islam.? Anda pernah masuk masjid untuk rasai ketenangan dan berpeluang bertanya kepada Masjid Tour Guide profesional yang [&#8230;]</p>
<p>The post <a href="https://hidayahcentre.org.my/event/dmm-jemputan-khas-ke-masjid-open-day/">JEMPUTAN KHAS KE MASJID OPEN DAY</a> appeared first on <a href="https://hidayahcentre.org.my">Hidayah Centre Foundation</a>.</p>

END:VEVENT
END:VCALENDAR
