BEGIN:VCALENDAR
VERSION:2.0
PRODID:-//WP EVENT Manager Ical//NONSGML Events //EN
CALSCALE:GREGORIAN

BEGIN:VEVENT

DTSTART:20210918T130000Z
DTEND:20210918T130000Z
LOCATION:
SUMMARY:??????? ????????? ?????????? ??????: ???? ????? – ???? ??-?
DESCRIPTION:<p>Satu program latihan dakwah bagi berbincang dan mempelajari teknik yang berkesan serta berhikmah dalam menyampaikan Islam kepada masyarakat India yang dianjurkan oleh Rakan Hidayah Batu. Program ini disampaikan oleh En [&#8230;]</p>
<p>The post <a href="https://hidayahcentre.org.my/event/dmm-%f0%9d%97%a3%f0%9d%97%a5%f0%9d%97%a2%f0%9d%97%9a%f0%9d%97%a5%f0%9d%97%94%f0%9d%97%a0-%f0%9d%97%a0%f0%9d%97%98%f0%9d%97%a1%f0%9d%97%9a%f0%9d%97%98%f0%9d%97%a1%f0%9d%97%94%f0%9d%97%9f%f0%9d%97%9c/">??????? ????????? ?????????? ??????: ???? ????? &#8211; ???? ??-?</a> appeared first on <a href="https://hidayahcentre.org.my">Hidayah Centre Foundation</a>.</p>

END:VEVENT
END:VCALENDAR
