BEGIN:VCALENDAR
VERSION:2.0
PRODID:-//WP EVENT Manager Ical//NONSGML Events //EN
CALSCALE:GREGORIAN

BEGIN:VEVENT

DTSTART:20210904T020000Z
DTEND:20210904T043000Z
LOCATION:
SUMMARY:Dialog Harmoni: Apa erti merdeka menurut kami ?
DESCRIPTION:<p>Assalamu’alaiukum Selamat sejahtera, Salam merdeka, Pihak Hidayah Centre Foundation Pulau Pinang ingin menjemput semua warga Malaysia yang cintakan negara untuk hadir dalam talian zoom ke program “Dialog Harmoni”. Butirannya adalah [&#8230;]</p>
<p>The post <a href="https://hidayahcentre.org.my/event/dialog-harmoni-apa-erti-merdeka-menurut-kami/">Dialog Harmoni: Apa erti merdeka menurut kami ?</a> appeared first on <a href="https://hidayahcentre.org.my">Hidayah Centre Foundation</a>.</p>

END:VEVENT
END:VCALENDAR
