BEGIN:VCALENDAR
VERSION:2.0
PRODID:-//WP EVENT Manager Ical//NONSGML Events //EN
CALSCALE:GREGORIAN

BEGIN:VEVENT

DTSTART:20210210T160000Z
DTEND:20210211T153000Z
LOCATION:Melaka
SUMMARY:ZIARAH KEBAJIKAN CHINESE NEW YEAR 2021
DESCRIPTION:<p>Menyantuni dan ziarah kebajikan Chinese New Year masyarakat Cina di sekitar Banda Hilir dan Ujong Pasir Melaka oleh Rakan Hidayah Melaka Tengah. Pemberian berupa hadiah, kad ucapan dan sedikit angpaw. [&#8230;]</p>
<p>The post <a href="https://hidayahcentre.org.my/event/cny-ziarah-kebajikan-chinese-new-year-2021/">ZIARAH KEBAJIKAN CHINESE NEW YEAR 2021</a> appeared first on <a href="https://hidayahcentre.org.my">Hidayah Centre Foundation</a>.</p>

END:VEVENT
END:VCALENDAR
