BEGIN:VCALENDAR
VERSION:2.0
PRODID:-//WP EVENT Manager Ical//NONSGML Events //EN
CALSCALE:GREGORIAN

BEGIN:VEVENT

DTSTART:20210220T013000Z
DTEND:20210220T043000Z
LOCATION:UNIMAP, PERLIS
SUMMARY:ZIARAH CHINESE NEW YEAR – UNIMAP
DESCRIPTION:<p>ZIARAH CHINESE NEW YEAR Tarikh: 20 Februari 2021 (Sabtu) Masa : 9.30 pagi – 12.30 petang Tempat: Kediaman Pelajar Universiti Malaysia Perlis. Sekitar penyampaian hadiah hamper kepada masyarakat berbangsa cina [&#8230;]</p>
<p>The post <a href="https://hidayahcentre.org.my/event/cny-ziarah-chinese-new-year-unimap/">ZIARAH CHINESE NEW YEAR &#8211; UNIMAP</a> appeared first on <a href="https://hidayahcentre.org.my">Hidayah Centre Foundation</a>.</p>

END:VEVENT
END:VCALENDAR
