BEGIN:VCALENDAR
VERSION:2.0
PRODID:-//WP EVENT Manager Ical//NONSGML Events //EN
CALSCALE:GREGORIAN

BEGIN:VEVENT

DTSTART:20210222T033000Z
DTEND:20210222T063000Z
LOCATION:Padang Besar, Perlis
SUMMARY:ZIARAH CHINESE NEW YEAR – Perlis
DESCRIPTION:<p>Hari ini ahli Rakan Hidayah dan Staf HCF Perlis telah menyampaikan hadiah berbentuk hamper kepada masyarakat berbangsa cina sempena sambutan Tahun Baru Cina. Ziarah ini diketuai oleh saudara Nasrul yang [&#8230;]</p>
<p>The post <a href="https://hidayahcentre.org.my/event/cny-ziarah-chinese-new-year-perlis/">ZIARAH CHINESE NEW YEAR &#8211; Perlis</a> appeared first on <a href="https://hidayahcentre.org.my">Hidayah Centre Foundation</a>.</p>

END:VEVENT
END:VCALENDAR
