BEGIN:VCALENDAR
VERSION:2.0
PRODID:-//WP EVENT Manager Ical//NONSGML Events //EN
CALSCALE:GREGORIAN

BEGIN:VEVENT

DTSTART:20210220T160000Z
DTEND:20210220T160000Z
LOCATION:PPR Air Panas, Setapak, Kuala Lumpur
SUMMARY:Sumbangan pek kegembiraan CNY
DESCRIPTION:<p>Objektif :  Memberi kegembiraan kepada bukan Islam dan mualaf cina yang susah sempena CNY. Dakwah secara bil hal Laporan Ringkas : Program ini merupakan anjuran HCF Pusat dengan kerjasama HCF Kuala Lumpur yang [&#8230;]</p>
<p>The post <a href="https://hidayahcentre.org.my/event/cny-sumbangan-pek-kegembiraan-cny/">Sumbangan pek kegembiraan CNY</a> appeared first on <a href="https://hidayahcentre.org.my">Hidayah Centre Foundation</a>.</p>

END:VEVENT
END:VCALENDAR
