BEGIN:VCALENDAR
VERSION:2.0
PRODID:-//WP EVENT Manager Ical//NONSGML Events //EN
CALSCALE:GREGORIAN

BEGIN:VEVENT

DTSTART:20230202T160000Z
DTEND:20230202T160000Z
LOCATION:Kota Damansara
SUMMARY:Santunan Tahun Baru Cina di Kota Damansara
DESCRIPTION:<p>H2O CNY 2023 3 Februari 2023- Pejabat HCF Wilayah Tengah (Kota Damansara) telah mengadakan edaran buah tangan kepada jiran berbangsa cina sekitar pejabat sempena Tahun Baru Cina 2023. Xin Nian [&#8230;]</p>
<p>The post <a href="https://hidayahcentre.org.my/event/cny-santunan-tahun-baru-cina-di-kota-damansara/">Santunan Tahun Baru Cina di Kota Damansara</a> appeared first on <a href="https://hidayahcentre.org.my">Hidayah Centre Foundation</a>.</p>

END:VEVENT
END:VCALENDAR
