BEGIN:VCALENDAR
VERSION:2.0
PRODID:-//WP EVENT Manager Ical//NONSGML Events //EN
CALSCALE:GREGORIAN

BEGIN:VEVENT

DTSTART:20220214T063000Z
DTEND:20220214T090000Z
LOCATION:Masjid Saidina Abu Bakar, Bangsar, Kuala Lumpur
SUMMARY:Program Harmoni Sempena Hari Wilayah & Tahun Baru Cina 2022
DESCRIPTION:<p>Program Harmoni Sempena Hari Wilayah &#38; Tahun Baru Cina 2022 ini merupakan anjuran Masjid Saidina Abu Bakar As-Siddiq (MSABA) Bangsar dengan kerjasama Hidayah Centre Foundation (HCF), Malaysian Chinese Muslim Association [&#8230;]</p>
<p>The post <a href="https://hidayahcentre.org.my/event/cny-program-harmoni-sempena-hari-wilayah-tahun-baru-cina-2022/">Program Harmoni Sempena Hari Wilayah &amp; Tahun Baru Cina 2022</a> appeared first on <a href="https://hidayahcentre.org.my">Hidayah Centre Foundation</a>.</p>

END:VEVENT
END:VCALENDAR
