BEGIN:VCALENDAR
VERSION:2.0
PRODID:-//WP EVENT Manager Ical//NONSGML Events //EN
CALSCALE:GREGORIAN

BEGIN:VEVENT

DTSTART:20230204T233000Z
DTEND:20230205T050000Z
LOCATION:Gelanggang Bola Keranjang, Persiaran Karpal Singh
SUMMARY:MAJLIS SAMBUTAN TAHUN BARU CINA 2023 新春团拜 ?
DESCRIPTION:<p>MAJLIS SAMBUTAN TAHUN BARU CINA 2023 新春团拜 ? Malaysian Chinese Muslim Association Pulau Pinang dan Gabungan Dakwah Malaysia Pulau Pinang akan menganjurkan Majlis Sambutan Tahun Baru Cina 2023. ? Tarikh [&#8230;]</p>
<p>The post <a href="https://hidayahcentre.org.my/event/cny-majlis-sambutan-tahun-baru-cina-2023-%e6%96%b0%e6%98%a5%e5%9b%a2%e6%8b%9c-%f0%9f%8e%89-2/">MAJLIS SAMBUTAN TAHUN BARU CINA 2023 新春团拜 ?</a> appeared first on <a href="https://hidayahcentre.org.my">Hidayah Centre Foundation</a>.</p>

END:VEVENT
END:VCALENDAR
