BEGIN:VCALENDAR
VERSION:2.0
PRODID:-//WP EVENT Manager Ical//NONSGML Events //EN
CALSCALE:GREGORIAN

BEGIN:VEVENT

DTSTART:20230121T000000Z
DTEND:20230121T000000Z
LOCATION:Sabak Bernam
SUMMARY:Kuliah Subuh dan Sambutan Tahun Baru Cina bersama Masyarakat Sabak Bernam
DESCRIPTION:<p>21 Januari 2023 &#8211; Rakan Hidayah Sabak Bernam dengan kerjasama Jabatan Pengurusan Daie dan Sukarelawan HCF telah menganjurkan beberapa aktiviti di Sabak Bernam hari ini. Kuliah subuh bertajuk &#8216;Bersama ke [&#8230;]</p>
<p>The post <a href="https://hidayahcentre.org.my/event/cny-kuliah-subuh-dan-sambutan-tahun-baru-cina-bersama-masyarakat-sabak-bernam/">Kuliah Subuh dan Sambutan Tahun Baru Cina bersama Masyarakat Sabak Bernam</a> appeared first on <a href="https://hidayahcentre.org.my">Hidayah Centre Foundation</a>.</p>

END:VEVENT
END:VCALENDAR
