BEGIN:VCALENDAR
VERSION:2.0
PRODID:-//WP EVENT Manager Ical//NONSGML Events //EN
CALSCALE:GREGORIAN

BEGIN:VEVENT

DTSTART:20230120T013000Z
DTEND:20230120T013000Z
LOCATION:Ampang, Kuala Langat
SUMMARY:Edaran Buah Tangan sempena Tahun Baru Cina
DESCRIPTION:<p>20 &#38; 21 Januari 2023- Aktiviti edaran buah tangan sempena Tahun Baru Cina kepada masyarakat Cina di sekitar Ampang dan Kuala Langat telah dilaksanakan oleh Rakan Hidayah kawasan dengan kerjasama [&#8230;]</p>
<p>The post <a href="https://hidayahcentre.org.my/event/cny-edaran-buah-tangan-sempena-tahun-baru-cina/">Edaran Buah Tangan sempena Tahun Baru Cina</a> appeared first on <a href="https://hidayahcentre.org.my">Hidayah Centre Foundation</a>.</p>

END:VEVENT
END:VCALENDAR
