BEGIN:VCALENDAR
VERSION:2.0
PRODID:-//WP EVENT Manager Ical//NONSGML Events //EN
CALSCALE:GREGORIAN

BEGIN:VEVENT

DTSTART:20210210T160000Z
DTEND:20210211T153000Z
LOCATION:Bintulu, Sarawak
SUMMARY:Edar Hadiah CNY – Bintulu
DESCRIPTION:<p>Alhamdulillah, Kemarin program edar hadiah kegembiraan sempena Tahun Baharu Cina diadakan. Seramai 31 keluarga berbangsa cina menerima hadiah kegembiraan tersebut. Hadiah ini juga sebagai tanda terima kasih dari Hidayah Centre [&#8230;]</p>
<p>The post <a href="https://hidayahcentre.org.my/event/cny-edar-hadiah-cny-bintulu/">Edar Hadiah CNY – Bintulu</a> appeared first on <a href="https://hidayahcentre.org.my">Hidayah Centre Foundation</a>.</p>

END:VEVENT
END:VCALENDAR
