BEGIN:VCALENDAR
VERSION:2.0
PRODID:-//WP EVENT Manager Ical//NONSGML Events //EN
CALSCALE:GREGORIAN

BEGIN:VEVENT

DTSTART:20220416T133000Z
DTEND:20220416T133000Z
LOCATION:Dewan Orang Ramai Taman Koperasi Polis Fasa 2, Batu, WP Kuala Lumpur
SUMMARY:Mualaf Santunan Rakan Hidayah Batu diraikan dalam Majlis Iftar IKRAM Batu 202
DESCRIPTION:<p>16 APRIL 2022 &#124; 14 RAMADAN 1443H (SABTU) &#8211; Seramai 6 orang mualaf berserta ahli keluarga santunan Rakan Hidayah Batu telah dijemput dan diraikan di Majlis Iftar Ramadan IKRAM Kawasan [&#8230;]</p>
<p>The post <a href="https://hidayahcentre.org.my/event/bantuan-ramadan-mualaf-santunan-rakan-hidayah-batu-diraikan-dalam-majlis-iftar-ikram-batu-202-2/">Mualaf Santunan Rakan Hidayah Batu diraikan dalam Majlis Iftar IKRAM Batu 202</a> appeared first on <a href="https://hidayahcentre.org.my">Hidayah Centre Foundation</a>.</p>

END:VEVENT
END:VCALENDAR
