BEGIN:VCALENDAR
VERSION:2.0
PRODID:-//WP EVENT Manager Ical//NONSGML Events //EN
CALSCALE:GREGORIAN

BEGIN:VEVENT

DTSTART:20211028T160000Z
DTEND:20211029T153000Z
LOCATION:Sentul Raya, Kuala Lumpur, Wilayah Persekutuan
SUMMARY:Sokong Bisnes Maruku dan Aneka Kacang Putih Mualaf
DESCRIPTION:<p>Assalamualaikum semua. Saudara baru santunan Hidayah Centre Foundation Kawasan Batu &#8211; Sis. Siti Aishah Abdullah, menyara kehidupan keluarga dengan berniaga maruku dan pelbagai aneka kacang putih. Suaminya, Bro. Abdul Rahman [&#8230;]</p>
<p>The post <a href="https://hidayahcentre.org.my/event/bantuan-perniagaan-sokong-bisnes-maruku-dan-aneka-kacang-putih-mualaf/">Sokong Bisnes Maruku dan Aneka Kacang Putih Mualaf</a> appeared first on <a href="https://hidayahcentre.org.my">Hidayah Centre Foundation</a>.</p>

END:VEVENT
END:VCALENDAR
