BEGIN:VCALENDAR
VERSION:2.0
PRODID:-//WP EVENT Manager Ical//NONSGML Events //EN
CALSCALE:GREGORIAN

BEGIN:VEVENT

DTSTART:20210730T160000Z
DTEND:20210730T160000Z
LOCATION:Selangor
SUMMARY:Agihan Fidyah MAIS
DESCRIPTION:<p>Tempat : Shah Alam, Kajang, Puncak Alam, Klang, Rawang, Petaling Jaya, Seri Kembangan, Selayang Objektif : Memberi bantuan barangan asasi kepada golongan fakir, miskin &#38; miskin sementera yang terkesan akibat pandemik COVID-19 Laporan Ringkas : Agihan [&#8230;]</p>
<p>The post <a href="https://hidayahcentre.org.my/event/bantuan-covid19-agihan-fidyah-mais/">Agihan Fidyah MAIS</a> appeared first on <a href="https://hidayahcentre.org.my">Hidayah Centre Foundation</a>.</p>

END:VEVENT
END:VCALENDAR
