BEGIN:VCALENDAR
VERSION:2.0
PRODID:-//WP EVENT Manager Ical//NONSGML Events //EN
CALSCALE:GREGORIAN

BEGIN:VEVENT

DTSTART:20221217T160000Z
DTEND:20221218T153000Z
LOCATION:Masjid Cina Titi Papan, Jalan Burma, Pulau Pinang
SUMMARY:DONGZHI AMAL RAHMAH
DESCRIPTION:<p>INVITATION TO THE DONGZHI AMAL RAHMAH . Let&#8217;s go to the Dongzhi Amal Rahmah (Winter Solstice Festival) 2022 . ?Date: December 18, 2022 ?Day: Sunday ?Time: 9.00 am &#8211; 1.00 [&#8230;]</p>
<p>The post <a href="https://hidayahcentre.org.my/event/back-to-school-dongzhi-amal-rahmah-3/">DONGZHI AMAL RAHMAH</a> appeared first on <a href="https://hidayahcentre.org.my">Hidayah Centre Foundation</a>.</p>

END:VEVENT
END:VCALENDAR
